BEGIN:VCALENDAR
VERSION:2.0
PRODID:-//CineTeatro Santa Maria - Biassono - ECPv6.15.20//NONSGML v1.0//EN
CALSCALE:GREGORIAN
METHOD:PUBLISH
X-ORIGINAL-URL:https://www.cineteatrobiassono.org
X-WR-CALDESC:Eventi per CineTeatro Santa Maria - Biassono
REFRESH-INTERVAL;VALUE=DURATION:PT1H
X-Robots-Tag:noindex
X-PUBLISHED-TTL:PT1H
BEGIN:VTIMEZONE
TZID:Europe/Rome
BEGIN:DAYLIGHT
TZOFFSETFROM:+0100
TZOFFSETTO:+0200
TZNAME:CEST
DTSTART:20240331T010000
END:DAYLIGHT
BEGIN:STANDARD
TZOFFSETFROM:+0200
TZOFFSETTO:+0100
TZNAME:CET
DTSTART:20241027T010000
END:STANDARD
BEGIN:DAYLIGHT
TZOFFSETFROM:+0100
TZOFFSETTO:+0200
TZNAME:CEST
DTSTART:20250330T010000
END:DAYLIGHT
BEGIN:STANDARD
TZOFFSETFROM:+0200
TZOFFSETTO:+0100
TZNAME:CET
DTSTART:20251026T010000
END:STANDARD
BEGIN:DAYLIGHT
TZOFFSETFROM:+0100
TZOFFSETTO:+0200
TZNAME:CEST
DTSTART:20260329T010000
END:DAYLIGHT
BEGIN:STANDARD
TZOFFSETFROM:+0200
TZOFFSETTO:+0100
TZNAME:CET
DTSTART:20261025T010000
END:STANDARD
END:VTIMEZONE
BEGIN:VEVENT
DTSTART;TZID=Europe/Rome:20251222T143000
DTEND;TZID=Europe/Rome:20251222T163000
DTSTAMP:20260419T151955
CREATED:20251122T075841Z
LAST-MODIFIED:20251216T085139Z
UID:7694-1766413800-1766421000@www.cineteatrobiassono.org
SUMMARY:Gran Galà di Natale 2025 - Prove Generali
DESCRIPTION:Gran Galà di Natale 2025 – Vacanze di Natale a Biassono\n\n\n  ️ Acquista i biglietti\n  \n    I biglietti per il Gran Galà di Natale 2025 – Vacanze di Natale a Biassono\n    sono disponibili online e in biglietteria.\n   \n  \n    \n       VAI ALLA BIGLIETTERIA ONLINE\n    \n   \n\n\nBenvenuti nella pagina ufficiale del Gran Galà di Natale 2025 del Cineteatro Santa Maria di Biassono!Anche quest’anno il nostro teatro si prepara a celebrare la magia delle feste con uno spettacolo speciale\, ricco di emozioni\, musica\, risate e l’inconfondibile calore della nostra comunità. \n Titolo dell’edizione 2025: Vacanze di Natale a Biassono\nIl Gran Galà torna con una produzione originale che porta sul palco lo spirito del Natale vissuto nel nostro paese.La direzione artistica e regia sono affidate a Corinne Leone\, che con la sua sensibilità e creatività ha guidato il cast nella costruzione di un racconto ironico\, coinvolgente e ricco di atmosfera. \nI nostri attori e attrici sono già immersi nelle prove e stanno lavorando con entusiasmo per regalarvi un’esperienza unica\, capace di farvi sorridere e sognare. \n\n Date e informazioni\nProve Generali (aperte al pubblico)\nLunedì 22 dicembre – ore 14:30Biglietto: 5 €Foyer non allestito. \nGran Galà – Spettacolo Ufficiale\nMartedì 23 dicembre – ore 21:00Biglietto: 10 €Foyer allestito a tema natalizio. \nDue appuntamenti pensati per farvi vivere il nostro spettacolo da due prospettive diverse: \n\nla spontaneità e la freschezza delle prove\,\nla magia e l’eleganza della serata finale.\n\n\n✨ Una tradizione che unisce\nIl Gran Galà di Natale è una vera festa per tutta la comunità: un momento per incontrarsi\, condividere emozioni e celebrare insieme il periodo più luminoso dell’anno.Vi aspettiamo per vivere con noi un Natale… tutto biassonese! \n\nSi ringrazia\n\n			\n				\n			\n			\n				\n			\n		\n\n  \n 
URL:https://www.cineteatrobiassono.org/event/gran-gala-di-natale-2025-prove-generali/
LOCATION:MB
ATTACH;FMTTYPE=image/jpeg:https://www.cineteatrobiassono.org/wp-content/uploads/2025/11/IMG-20251201-WA0006.jpg
END:VEVENT
END:VCALENDAR