BEGIN:VCALENDAR
VERSION:2.0
PRODID:-//CineTeatro Santa Maria - Biassono - ECPv6.15.20//NONSGML v1.0//EN
CALSCALE:GREGORIAN
METHOD:PUBLISH
X-ORIGINAL-URL:https://www.cineteatrobiassono.org
X-WR-CALDESC:Eventi per CineTeatro Santa Maria - Biassono
REFRESH-INTERVAL;VALUE=DURATION:PT1H
X-Robots-Tag:noindex
X-PUBLISHED-TTL:PT1H
BEGIN:VTIMEZONE
TZID:Europe/Rome
BEGIN:DAYLIGHT
TZOFFSETFROM:+0100
TZOFFSETTO:+0200
TZNAME:CEST
DTSTART:20240331T010000
END:DAYLIGHT
BEGIN:STANDARD
TZOFFSETFROM:+0200
TZOFFSETTO:+0100
TZNAME:CET
DTSTART:20241027T010000
END:STANDARD
BEGIN:DAYLIGHT
TZOFFSETFROM:+0100
TZOFFSETTO:+0200
TZNAME:CEST
DTSTART:20250330T010000
END:DAYLIGHT
BEGIN:STANDARD
TZOFFSETFROM:+0200
TZOFFSETTO:+0100
TZNAME:CET
DTSTART:20251026T010000
END:STANDARD
BEGIN:DAYLIGHT
TZOFFSETFROM:+0100
TZOFFSETTO:+0200
TZNAME:CEST
DTSTART:20260329T010000
END:DAYLIGHT
BEGIN:STANDARD
TZOFFSETFROM:+0200
TZOFFSETTO:+0100
TZNAME:CET
DTSTART:20261025T010000
END:STANDARD
END:VTIMEZONE
BEGIN:VEVENT
DTSTART;TZID=Europe/Rome:20250523T210000
DTEND;TZID=Europe/Rome:20250523T223000
DTSTAMP:20260421T113315
CREATED:20250504T190424Z
LAST-MODIFIED:20250520T154103Z
UID:5374-1748034000-1748039400@www.cineteatrobiassono.org
SUMMARY:Teatro Lab: Otto donne e un mistero
DESCRIPTION:Otto donne e un mistero\n\n\n\n		\n				\n						\n			\n								\n			\n		\n							\n			\n				\n						\n			\n								\n			\n		\n							\n			\n				\n						\n			\n								\n			\n		\n							\n			\n				\n						\n			\n								\n			\n		\n							\n			\n				\n						\n			\n								\n			\n		\n							\n			\n				\n						\n			\n								\n			\n		\n							\n			\n				\n						\n			\n								\n			\n		\n							\n			\n				\n						\n			\n								\n			\n		\n							\n			\n				\n						\n			\n								\n			\n		\n							\n			\n	\n	\n\n	\n		\n		1\n2\n...\n6\n►	\nIn una villa remota\, otto donne dalle personalità inaspettate si ritrovano sul palcoscenico. La trama si sviluppa in un crescendo di suspense\, con l’irruzione improvvisa di un mistero che sconvolge le certezze quotidiane. Gli studenti del corso Adulti hanno lavorato per rappresentare una storia che unisce intrigo e profonda riflessione sulle relazioni umane. \n“Quanto è magico entrare in un teatro e vedere spegnersi le luci. Non so perché. C’è un silenzio profondo\, ed ecco che il sipario inizia ad aprirsi. Forse è rosso. Ed entri in un altro mondo.” – David Lynch \n \nPrenotazioni: Gratuito – Prenota qui o contatta WhatsApp al numero 039 2322144.
URL:https://www.cineteatrobiassono.org/event/teatro-lab-otto-donne-e-un-mistero/
LOCATION:Cineteatro Santa Maria\, Via Segramora 15\, Biassono\, MB\, 20853\, Italy
CATEGORIES:Teatro Lab
ATTACH;FMTTYPE=image/png:https://www.cineteatrobiassono.org/wp-content/uploads/2025/05/Otto-donne-e-un-mistero.png
ORGANIZER;CN="Cineteatro Santa Maria":MAILTO:biglietteria@cineteatrobiassono.org
END:VEVENT
END:VCALENDAR