BEGIN:VCALENDAR
VERSION:2.0
PRODID:-//CineTeatro Santa Maria - Biassono - ECPv6.15.20//NONSGML v1.0//EN
CALSCALE:GREGORIAN
METHOD:PUBLISH
X-ORIGINAL-URL:https://www.cineteatrobiassono.org
X-WR-CALDESC:Eventi per CineTeatro Santa Maria - Biassono
REFRESH-INTERVAL;VALUE=DURATION:PT1H
X-Robots-Tag:noindex
X-PUBLISHED-TTL:PT1H
BEGIN:VTIMEZONE
TZID:Europe/Rome
BEGIN:DAYLIGHT
TZOFFSETFROM:+0100
TZOFFSETTO:+0200
TZNAME:CEST
DTSTART:20240331T010000
END:DAYLIGHT
BEGIN:STANDARD
TZOFFSETFROM:+0200
TZOFFSETTO:+0100
TZNAME:CET
DTSTART:20241027T010000
END:STANDARD
BEGIN:DAYLIGHT
TZOFFSETFROM:+0100
TZOFFSETTO:+0200
TZNAME:CEST
DTSTART:20250330T010000
END:DAYLIGHT
BEGIN:STANDARD
TZOFFSETFROM:+0200
TZOFFSETTO:+0100
TZNAME:CET
DTSTART:20251026T010000
END:STANDARD
BEGIN:DAYLIGHT
TZOFFSETFROM:+0100
TZOFFSETTO:+0200
TZNAME:CEST
DTSTART:20260329T010000
END:DAYLIGHT
BEGIN:STANDARD
TZOFFSETFROM:+0200
TZOFFSETTO:+0100
TZNAME:CET
DTSTART:20261025T010000
END:STANDARD
END:VTIMEZONE
BEGIN:VEVENT
DTSTART;TZID=Europe/Rome:20251203T211500
DTEND;TZID=Europe/Rome:20251203T211500
DTSTAMP:20260421T165832
CREATED:20251121T191603Z
LAST-MODIFIED:20251121T201955Z
UID:7674-1764796500-1764796500@www.cineteatrobiassono.org
SUMMARY:Rock Live Choir in Concerto
DESCRIPTION:Rock Live Choir in Concerto\nal Cineteatro Santa Maria di Biassono \nIl Cineteatro Santa Maria è lieto di ospitare un evento unico nel suo genere: Rock Live Choir\, lo spettacolo che unisce la potenza del rock alla magia del canto corale. Un concerto energico\, emozionante e sorprendente\, capace di trasformare i grandi classici del rock in una straordinaria esperienza dal vivo. \nIl rock come non l’avete mai sentito\nSul nostro palco si esibirà un coro numeroso e appassionato\, accompagnato da musicisti dal grande talento. Arrangiamenti originali\, voci travolgenti e un’atmosfera elettrizzante renderanno questa serata un appuntamento imperdibile per tutti gli amanti della musica. \nDettagli dell’evento\n Mercoledì 3 dicembre\n Ore 21:15\n Cineteatro Santa Maria – Via Luigi Segramora\, 15\, Biassono \nIl ricavato sarà interamente devoluto ai progetti sostenuti da A.S.V.A.P. Monza e Brianza APS\, a supporto della salute mentale sul territorio. \nPrenotazioni\nPer informazioni e prenotazioni:\nmonza@asvapbrianza.it
URL:https://www.cineteatrobiassono.org/event/rock-live-choir-in-concerto/
LOCATION:Cineteatro Santa Maria\, Via Segramora 15\, Biassono\, MB\, 20853\, Italy
CATEGORIES:Musica
ATTACH;FMTTYPE=image/jpeg:https://www.cineteatrobiassono.org/wp-content/uploads/2025/11/Screenshot_20251121_210355-1.jpg
ORGANIZER;CN="A.S.V.A.P. Monza e Brianza APS":MAILTO:monza@asvapbrianza.it
END:VEVENT
BEGIN:VEVENT
DTSTART;TZID=Europe/Rome:20251130T210000
DTEND;TZID=Europe/Rome:20251130T223000
DTSTAMP:20260421T165832
CREATED:20251030T210227Z
LAST-MODIFIED:20251125T183718Z
UID:7526-1764536400-1764541800@www.cineteatrobiassono.org
SUMMARY:Concerto Gospel – Io dono\, non so a chi ma so perché
DESCRIPTION:Concerto Gospel – Io dono\, non so a chi ma so perché\nCon il gruppo Diesis & Bemolli\n\nData: Domenica 30 Novembre 2025  \nOrario: Ore 21:00  \nLuogo: CineTeatro Santa Maria\, Via Luigi Segramora 15\, Biassono (MB)\n\nTrailer\n \n✨ Un evento speciale promosso dal Cineteatro Santa Maria\nIl Cineteatro Santa Maria di Biassono\, in collaborazione con A.I.D.O. – Associazione Italiana per la Donazione di Organi\, e con il patrocinio del Comune di Biassono\, è lieto di presentare una serata di musica e solidarietà: il concerto gospel “Io dono\, non so a chi ma so perché” con il gruppo Diesis & Bemolli. \nUn’occasione per riflettere sul valore del dono attraverso la potenza del gospel\, in un’atmosfera coinvolgente e carica di emozione. \n️ Biglietti \n– Posto unico numerato: €10   \n– Biglietteria online \n– Email: biglietteria@cineteatrobiassono.org   \n– Telefono: 039.2322144 \nMusica che fa bene\nParte del ricavato sarà devoluto a sostegno dei progetti di A.I.D.O. Gruppo Comunale di Biassono\, per promuovere la cultura della donazione e sensibilizzare la cittadinanza. \nChi sono i Diesis & Bemolli?\nUn ensemble vocale e strumentale che fonde gospel\, soul e spiritual con passione e originalità. Ogni loro concerto è un’esperienza che coinvolge il pubblico\, lo emoziona e lo ispira. \nTi aspettiamo\nChe tu venga per la musica\, per il messaggio o per sostenere una causa importante\, questa serata è per te. Porta amici\, familiari\, e lasciati trasportare dalla forza del gospel.
URL:https://www.cineteatrobiassono.org/event/concerto-gospel-io-dono-non-so-a-chi-ma-so-perche/
LOCATION:Cineteatro Santa Maria\, Via Segramora 15\, Biassono\, MB\, 20853\, Italy
CATEGORIES:Musica
ATTACH;FMTTYPE=image/jpeg:https://www.cineteatrobiassono.org/wp-content/uploads/2025/10/IMG-20251028-WA0002.jpg
ORGANIZER;CN="Cineteatro Santa Maria":MAILTO:biglietteria@cineteatrobiassono.org
END:VEVENT
BEGIN:VEVENT
DTSTART;TZID=Europe/Rome:20251108T210000
DTEND;TZID=Europe/Rome:20251108T230000
DTSTAMP:20260421T165832
CREATED:20251023T220155Z
LAST-MODIFIED:20251024T063329Z
UID:7486-1762635600-1762642800@www.cineteatrobiassono.org
SUMMARY:Musiche da Oscar – Omaggio a Ennio Morricone
DESCRIPTION:🎶 Musiche da Oscar – Omaggio a Ennio Morricone\nConcerto di S. Martino 2025\n\nhttps://www.cineteatrobiassono.org/wp-content/uploads/2025/10/20251108-Musiche-da-Oscar.mp4\n📅 Sabato 8 novembre 2025 – Ore 21:00\n📍 CineTeatro S. Maria – Via L. Segramora 15\, Biassono \nIl Corpo Musicale Biassonese invita tutta la cittadinanza a un emozionante viaggio tra le colonne sonore più celebri del grande maestro Ennio Morricone\, in un concerto speciale dedicato alla sua musica senza tempo. \nSotto la direzione del M° Graziano Sanvito e con la presidenza di Fiorenzo Saini\, la serata sarà un tributo ai capolavori che hanno segnato la storia del cinema e conquistato il cuore del pubblico di tutto il mondo. \nDurante alcune esecuzioni verranno proiettati video delle opere cinematografiche per le quali sono state composte i brani\, offrendo così allo spettatore un’esperienza indimenticabile. \nUn evento unico\, capace di unire passione\, emozione e memoria attraverso le note di una leggenda del cinema. \n🎟️ Ingresso libero\nTutta la popolazione è invitata a partecipare. \n🕊️ Con il patrocinio del Comune di Biassono. 
URL:https://www.cineteatrobiassono.org/event/musiche-da-oscar-omaggio-a-ennio-morricone/
LOCATION:Cineteatro Santa Maria\, Via Segramora 15\, Biassono\, MB\, 20853\, Italy
CATEGORIES:Musica
ATTACH;FMTTYPE=image/jpeg:https://www.cineteatrobiassono.org/wp-content/uploads/2025/10/IMG-20251023-WA0016.jpg
ORGANIZER;CN="Corpo Musicale Biassonese":MAILTO:info@corpomusicalebiassonese.it
END:VEVENT
BEGIN:VEVENT
DTSTART;TZID=Europe/Rome:20251011T170000
DTEND;TZID=Europe/Rome:20251011T193000
DTSTAMP:20260421T165832
CREATED:20250715T214550Z
LAST-MODIFIED:20250716T112117Z
UID:6106-1760202000-1760211000@www.cineteatrobiassono.org
SUMMARY:Proclama 2: Concerto Gospel con Sonia Kouadio
DESCRIPTION:Proclama 2: Concerto Gospel con Sonia Kouadio\nItaliano\nIl Cineteatro Santa Maria di Biassono ospita Sonia Kouadio\, una delle voci più ispirate della scena gospel internazionale. Preparati a vivere un’esperienza carica di emozione\, spiritualità e grande passione musicale. \nDettagli dell’evento\n\nData: sabato 11 ottobre 2025\nOra: 17:00\nLocation: Via Luigi Segramora 15\, Biassono (MB)\nIngresso: 15 €\nContatti per informazioni e prenotazioni:\n\n327 4403008\n353 3779041\n329 1552113\n\n\n\n\n\n\nEnglish\nThe Cineteatro Santa Maria in Biassono presents Sonia Kouadio\, one of the most inspiring voices on the international gospel scene. Get ready for an afternoon charged with emotion\, spirituality\, and pure musical passion. \nEvent Details\n\nDate: Saturday\, October 11\, 2025\nTime: 5:00 PM\nVenue: Via Luigi Segramora 15\, Biassono (MB)\, Italy\nTicket Price: €15\nContacts for reservations and information:\n\n+39 327 4403008\n+39 353 3779041\n+39 329 1552113\n\n\n\n\n\n\nVersion Française\nLe Cineteatro Santa Maria de Biassono accueille Sonia Kouadio\, une des voix les plus inspirantes de la scène gospel internationale. Vivez un après-midi riche en émotion\, spiritualité et passion musicale. \nDétails de l’événement\n\nDate : samedi 11 octobre 2025\nHeure : 17h00\nLieu : Via Luigi Segramora 15\, Biassono (MB)\, Italie\nEntrée : 15 €\nContacts pour réservations et informations :\n\n+39 327 4403008\n+39 353 3779041\n+39 329 1552113
URL:https://www.cineteatrobiassono.org/event/proclama-2-concerto-gospel-con-sonia-kouadio/
LOCATION:Cineteatro Santa Maria\, Via Segramora 15\, Biassono\, MB\, 20853\, Italy
CATEGORIES:Musica
ATTACH;FMTTYPE=image/png:https://www.cineteatrobiassono.org/wp-content/uploads/2025/07/1752651538171.png
END:VEVENT
BEGIN:VEVENT
DTSTART;TZID=Europe/Rome:20250928T210000
DTEND;TZID=Europe/Rome:20250928T220000
DTSTAMP:20260421T165832
CREATED:20250907T170844Z
LAST-MODIFIED:20250917T204612Z
UID:7253-1759093200-1759096800@www.cineteatrobiassono.org
SUMMARY:Corpo Musicale Biassonese - Musica a Teatro
DESCRIPTION:Musica a Teatro \nConcerto del Corpo Musicale Biassonese \nDirettore: Graziano Sanvito \n \n​In programma\, tra gli altri: \nLe Marce di John Williams\, La strada\, Non son degno di te\, Skyfall\, American Graphity\, Se Telefonando\, Imagine\, The Blues Brothers\, Italo Oldies (Azzurro\, Mamma Maria\, L’Italiano\, Volare)… \n​Domenica 28 Settembre 2025 – Ore 21:00 \nCineTeatro Santa Maria – Via L. Segramora 15\, Biassono \n​Ingresso Libero. Tutta la popolazione è invitata. Il Presidente Fiorenzo Saini
URL:https://www.cineteatrobiassono.org/event/corpo-musicale-biassonese-musica-a-teatro/
LOCATION:Cineteatro Santa Maria\, Via Segramora 15\, Biassono\, MB\, 20853\, Italy
CATEGORIES:Musica
ATTACH;FMTTYPE=image/jpeg:https://www.cineteatrobiassono.org/wp-content/uploads/2025/09/1757953552528.jpg
ORGANIZER;CN="Corpo Musicale Biassonese":MAILTO:info@corpomusicalebiassonese.it
END:VEVENT
BEGIN:VEVENT
DTSTART;TZID=Europe/Rome:20250913T210000
DTEND;TZID=Europe/Rome:20250913T223000
DTSTAMP:20260421T165832
CREATED:20250627T160343Z
LAST-MODIFIED:20250820T071840Z
UID:6084-1757797200-1757802600@www.cineteatrobiassono.org
SUMMARY:Note per la ricerca - Acoustic Legend in concerto
DESCRIPTION:Note per la ricerca – Acoustic Legend in concerto\nSiamo felici di annunciarti un evento speciale che scalderà le nostre serate e i nostri cuori! Sabato 13 settembre 2025 alle 21:00\, sul palco del CineTeatro Santa Maria di Biassono\, avremo il piacere di ospitare gli Acoustic Legend. Sarà un concerto imperdibile\, fatto di musica bellissima e tanta solidarietà. \nGli Acoustic Legend\, che vengono dalla nostra Brianza\, sono famosi per la loro energia contagiosa e per come riescono a rendere ogni esibizione un momento magico. La loro musica\, con armonie delicate e interpretazioni piene di emozioni\, ti regalerà una serata che non dimenticherai. \nMa questo concerto non sarà solo un appuntamento musicale. Sarà un’occasione preziosa per fare del bene\, sostenendo una causa che ci sta molto a cuore: la ricerca per la cura della Corea di Huntington. Gli Acoustic Legend hanno sempre mostrato una grande attenzione verso la ricerca scientifica\, dedicando parte dei soldi che raccolgono con i loro concerti a chi combatte questa malattia difficile. Ogni contributo\, anche il più piccolo\, può fare una grande differenza nella vita di tante persone. \nVivere la musica insieme\, sapendo di aiutare una causa così importante\, rende tutto ancora più speciale. Ti aspettiamo per emozionarti con le note degli Acoustic Legend e per dare una mano alla ricerca per la cura della Corea di Huntington. Non mancare! \n\n\nDettagli dell’Evento:\n\nCosa: Concerto degli Acoustic Legend\nQuando: Sabato 13 settembre 2025\, ore 21:00\nDove: CineTeatro Santa Maria\, Biassono\nPerché: Musica dal vivo e beneficenza per la ricerca sulla cura della Corea di Huntington. I fondi raccolti saranno devoluti alla LIRH (Lega Italiana Ricerca Huntington).\nBiglietteria\n\n \ni \n\n\nLa Nascita del Progetto Acoustic Legend e il Suo Impegno Sociale\nTutto è iniziato quasi due anni fa\, dalla passione per la musica e dalla gioia di essersi ritrovati e aver ricominciato ad esibirsi tutti insieme. Vedere lo stesso entusiasmo dipinto sui volti delle persone che venivano ad ascoltare\, ha confermato che stavamo facendo qualcosa di buono non solo per noi: avevamo creato un contesto in cui esprimerci divertendoci e facendo divertire. \nLa scelta di donare gli incassi è stata una diretta conseguenza. Da una jam session estemporanea è nato un progetto artistico ben strutturato con un’importante attenzione al sociale. Per la scelta dell’associazione a cui donare gli utili\, siamo partiti dalla nostra quotidianità. Avendo un’amicizia toccata dalla Corea di Huntington\, e conoscendo i limiti che la ricerca ha nel reperire fondi\, la preferenza è stata data alla LIRH. \nIl nostro modo di procurarci le serate è abbastanza semplice: proponiamo la nostra musica e la nostra performance\, mostrando a locali e organizzatori ciò che sappiamo fare e\, solo in un secondo momento\, nel bel mezzo della performance comunichiamo agli spettatori presenti e ai gestori che stanno contribuendo a fare del bene. \nQuando il progetto Acoustic Legend è stato messo in piedi\, non pensavamo di arrivare tanto lontano; dopo un anno e mezzo possiamo contare approssimativamente 60 concerti e 4.000\,00 euro donati\, tanta musica condivisa e un’enorme crescita umana e artistica che ci ha reso orgogliosi di questo percorso. \nContributo di Simone – Acoustic Legend \n\nVoce: Simone Motta\nVoce: Chiara Ruffato\nChitarra: Franscesco Venturuzzo\nTastiera: Emanuele Parravicini / Davide Donzelli\nBasso: Elia Venturuzzo\nPercussioni: Gabriele Arbizzoni\nArmonica: Walter Frasson\n\n\nUn Passetto in Più verso la Speranza: Conosciamo la Corea di Huntington e la Ricerca\nNel prossimo concerto degli Acoustic Legend\, sabato 13 settembre\, sosterremo la ricerca per la cura della Corea di Huntington. Visto che è una malattia non così conosciuta\, vogliamo raccontarti qualcosa in più per capire insieme l’importanza del nostro contributo. \nCos’è la Corea di Huntington?\nImmagina che il nostro cervello sia un’orchestra perfetta\, dove ogni strumento suona in armonia per farci muovere\, pensare e sentire. La Corea di Huntington è come se uno di questi strumenti iniziasse a “stonare”\, creando disordine. È una malattia neurologica genetica rara che\, purtroppo\, peggiora nel tempo. \nÈ causata da un difetto in un singolo gene\, che porta alla degenerazione graduale di alcune cellule nervose nel cervello. Questo si traduce in una serie di sintomi che possono variare da persona a persona\, ma che spesso includono: \n\nMovimenti involontari: scatti improvvisi e incontrollabili\, come se la persona “ballasse” (da qui il nome “corea”\, che significa danza).\nDifficoltà cognitive: problemi di memoria\, concentrazione\, capacità di organizzare le idee o di prendere decisioni.\nCambiamenti emotivi e comportamentali: irritabilità\, apatia\, depressione\, ansia o sbalzi d’umore.\n\nI sintomi di solito iniziano a manifestarsi tra i 30 e i 50 anni\, ma in alcuni casi possono comparire anche prima. È una malattia complessa\, che ha un impatto profondo sulla vita dei pazienti e delle loro famiglie. \n\nA che punto è la Ricerca?\nNonostante la Corea di Huntington sia una malattia ancora senza una cura definitiva\, il fronte della ricerca è molto attivo e pieno di speranza! I ricercatori di tutto il mondo stanno facendo passi da gigante\, concentrandosi su diversi approcci: \n\nTerapie genetiche e a RNA: L’obiettivo è “silenziare” il gene difettoso che causa la malattia\, o impedire che produca la proteina “cattiva” che danneggia le cellule. Ci sono diversi studi in corso che stanno dando risultati preliminari incoraggianti\, con farmaci che puntano direttamente al problema alla radice.\nNuove molecole: Si studiano nuove sostanze che possano proteggere le cellule nervose dalla degenerazione o rallentare la progressione della malattia.\nMigliorare la qualità della vita: Anche se la cura non è ancora qui\, la ricerca lavora anche per migliorare la qualità della vita dei pazienti. Ci sono terapie che aiutano a gestire i sintomi (come i movimenti involontari o la depressione) e programmi di riabilitazione (fisioterapia\, logopedia\, supporto psicologico) che fanno una grande differenza nel quotidiano.\nGrandi collaborazioni internazionali: La ricerca sulla Huntington è un esempio virtuoso di come la scienza lavori insieme. Esistono programmi globali che raccolgono dati e campioni da migliaia di pazienti in tutto il mondo\, per accelerare le scoperte.\n\nOgni piccola scoperta\, ogni nuovo studio\, ci avvicina un po’ di più al traguardo. Il nostro supporto\, attraverso eventi come il concerto degli Acoustic Legend\, alimenta direttamente queste ricerche e mantiene viva la speranza di trovare presto una cura. \n\nLa malattia di Huntington: Dettagli Approfonditi\nLa malattia di Huntington è una malattia rara\, ereditaria e neurodegenerativa che interessa principalmente il sistema nervoso. \nLa causa genetica della malattia è da attribuire alla mutazione di un tratto del DNA che interessa il gene HTT e che produce una proteina anomala\, chiamata huntingtina. Tale proteina provoca la morte prematura dei neuroni in alcune aree del cervello. \nColpisce sia gli uomini che le donne in egual misura\, in quanto il gene patologico è localizzato su un cromosoma che è lo stesso in entrambi i sessi (cromosomi di tipo autosomico). \nLa probabilità di ereditare il gene malato è del 50% nella forma eterozigote (chi eredita una copia del gene da un genitore affetto). La Corea di Huntington è una malattia genetica di tipo dominante: con questo si intende che è sufficiente avere una sola copia del gene patologico per ereditare la malattia. In altri termini\, la mutazione presente nel gene HD ha un effetto dominante sul gene normale\, ereditato dal genitore non affetto. \nIn Italia si stima che circa 7.000 persone siano affette dalla malattia di Huntington e tra le 30.000 e le 40.000 persone siano a rischio di ammalarsi. \nLa complessità della malattia deriva dal fatto che essa agisce contemporaneamente su più sistemi: \n\nquello del movimento con comparsa di movimenti involontari (come di una danza incontrollata\, ragion per cui è anche detta còrea\, dal greco “danza”)\nquello della perdita delle capacità cognitive\nquello dei disturbi psichiatrici.\n\nSi manifesta perciò in maniera variabile da soggetto a soggetto\, anche all’interno dello stesso nucleo familiare: stessa causa ma facce diverse della malattia. \nIn genere\, i primi sintomi appaiono in media all’età di 40-50 anni. La malattia ha un andamento ingravescente\, per cui i disordini del movimento e i disturbi cognitivi peggiorano col progredire della malattia. È una malattia complessa\, che ha un impatto profondo sulla vita dei pazienti e delle loro famiglie. \n\nL’ereditarietà e la Lega Italiana Ricerca Huntington (LIRH)\nL’unico modo per sapere con certezza se si è portatori della mutazione che determinerà l’insorgenza della malattia di Huntington è sottoporsi al test genetico che\, tuttavia\, non può essere considerato una mera ‘procedura di laboratorio’\, perché l’esito apre una finestra sul futuro. Le linee guida internazionali raccomandano di accompagnare le persone verso una decisione consapevole\, con un percorso di counseling genetico e psicologico. \nLa Lega Italiana Ricerca Huntington (LIRH) si adopera per garantire alle persone affette da Malattia di Huntington\, alle persone a rischio e ai loro familiari\, la possibilità di accedere a terapie appropriate e innovative\, di ricevere una adeguata assistenza clinica e psicologica e di vivere la loro condizione senza essere oggetto di pregiudizi o discriminazione. Un altro obiettivo generale è il sostegno della ricerca scientifica nel campo delle malattie rare neurodegenerative. \n 
URL:https://www.cineteatrobiassono.org/event/note-per-la-ricerca-acoustic-legend-in-concerto/
LOCATION:Cineteatro Santa Maria\, Via Segramora 15\, Biassono\, MB\, 20853\, Italy
CATEGORIES:Musica
ATTACH;FMTTYPE=image/jpeg:https://www.cineteatrobiassono.org/wp-content/uploads/2025/06/Screenshot_20250803_134704_com.adobe_.reader_edit_110865563961207.jpg
ORGANIZER;CN="Cineteatro Santa Maria":MAILTO:biglietteria@cineteatrobiassono.org
END:VEVENT
BEGIN:VEVENT
DTSTART;TZID=Europe/Rome:20250530T210000
DTEND;TZID=Europe/Rome:20250530T223000
DTSTAMP:20260421T165832
CREATED:20250411T073137Z
LAST-MODIFIED:20250413T174119Z
UID:5319-1748638800-1748644200@www.cineteatrobiassono.org
SUMMARY:FUTURA\, dentro il Jazz di Lucio Dalla
DESCRIPTION:FUTURA\, dentro il jazz di Lucio Dalla – Tributo e Omaggio\nIl Cineteatro Santa Maria di Biassono è lieto di presentare “FUTURA\, dentro il jazz di Lucio Dalla”\, un tributo unico e innovativo dedicato al grande cantautore e jazzista bolognese. Questa serata speciale offre una rielaborazione inedita dei classici di Lucio Dalla\, in cui la musica si fa esperienza profonda attraverso arrangiamenti originali e potenti letture recitate\, capaci di esaltare ogni sfumatura del suo immenso repertorio. \nUn’Interpretazione Innovativa\nIn questo spettacolo\, l’approccio artistico si discosta dalle tradizionali esecuzioni vocali. Gli arrangiamenti strumentali e le letture recitate permettono al pubblico di riscoprire la musica di Lucio Dalla in una veste nuova\, intensa ed emozionante. Un’esperienza che saprà sorprendere e coinvolgere sia i più affezionati che chi si avvicina per la prima volta al suo universo musicale. \nUn Progetto con un Cuore Sociale\nOltre a rendere omaggio a Lucio Dalla\, l’evento ha una valenza sociale importante: il ricavato sarà devoluto al progetto ADOTTA UNA TEGOLA\, un’iniziativa che contribuisce allo sviluppo culturale e al benessere della nostra comunità. Sostenendo questo progetto\, non solo vivrai una serata indimenticabile\, ma aiuterai anche a rafforzare il tessuto sociale del territorio. \nLa Compagnia\nSul palco\, talentuosi musicisti daranno vita a questo tributo:\n– Simeone Riva – Tromba/Flicorno soprano\n– Marco Settanni – Chitarra\n– Edoardo Maggioni – Pianoforte/Tastiere\n– Stefano Fascioli – Contrabbasso\n– Enrico Pirola – Batteria \nAcquista il Tuo Biglietto\nNon perdere l’occasione di vivere una serata che unisce musica\, innovazione e solidarietà. \nPrezzi:\n\nBiglietto Intero: €12\nBiglietto Under20: €10\n\nAcquista ora il tuo biglietto online \nResta aggiornato per ulteriori novità e sorprese in vista dell’evento. Unisciti a noi per onorare la memoria di Lucio Dalla e celebrare la cultura che ci unisce.
URL:https://www.cineteatrobiassono.org/event/futura-dentro-il-jazz-di-lucio-dalla/
LOCATION:Cineteatro Santa Maria\, Via Segramora 15\, Biassono\, MB\, 20853\, Italy
CATEGORIES:Musica,Teatro
ATTACH;FMTTYPE=image/jpeg:https://www.cineteatrobiassono.org/wp-content/uploads/2025/04/IMG-20250408-WA0000.jpg
ORGANIZER;CN="Cineteatro Santa Maria":MAILTO:biglietteria@cineteatrobiassono.org
END:VEVENT
END:VCALENDAR