BEGIN:VCALENDAR
VERSION:2.0
PRODID:-//CineTeatro Santa Maria - Biassono - ECPv6.15.20//NONSGML v1.0//EN
CALSCALE:GREGORIAN
METHOD:PUBLISH
X-WR-CALNAME:CineTeatro Santa Maria - Biassono
X-ORIGINAL-URL:https://www.cineteatrobiassono.org
X-WR-CALDESC:Eventi per CineTeatro Santa Maria - Biassono
REFRESH-INTERVAL;VALUE=DURATION:PT1H
X-Robots-Tag:noindex
X-PUBLISHED-TTL:PT1H
BEGIN:VTIMEZONE
TZID:Europe/Rome
BEGIN:DAYLIGHT
TZOFFSETFROM:+0100
TZOFFSETTO:+0200
TZNAME:CEST
DTSTART:20250330T010000
END:DAYLIGHT
BEGIN:STANDARD
TZOFFSETFROM:+0200
TZOFFSETTO:+0100
TZNAME:CET
DTSTART:20251026T010000
END:STANDARD
BEGIN:DAYLIGHT
TZOFFSETFROM:+0100
TZOFFSETTO:+0200
TZNAME:CEST
DTSTART:20260329T010000
END:DAYLIGHT
BEGIN:STANDARD
TZOFFSETFROM:+0200
TZOFFSETTO:+0100
TZNAME:CET
DTSTART:20261025T010000
END:STANDARD
BEGIN:DAYLIGHT
TZOFFSETFROM:+0100
TZOFFSETTO:+0200
TZNAME:CEST
DTSTART:20270328T010000
END:DAYLIGHT
BEGIN:STANDARD
TZOFFSETFROM:+0200
TZOFFSETTO:+0100
TZNAME:CET
DTSTART:20271031T010000
END:STANDARD
END:VTIMEZONE
BEGIN:VEVENT
DTSTART;TZID=Europe/Rome:20260508T210000
DTEND;TZID=Europe/Rome:20260508T223000
DTSTAMP:20260422T005923
CREATED:20250830T075148Z
LAST-MODIFIED:20250830T075148Z
UID:6889-1778274000-1778279400@www.cineteatrobiassono.org
SUMMARY:CLB - Poesie in Musica
DESCRIPTION:Un’esperienza sensoriale unica\, dove la parola poetica incontra l’armonia delle note. L’8 maggio 2026\, il Circolo dei Lettori Biassonesi vi invita a una serata speciale e suggestiva: “Poesie in Musica”.  L’incontro si terrà presso il CineTeatro Santa Maria di Biassono.  Questo format multisensoriale rende la poesia più accessibile e coinvolgente\, aprendo l’evento anche a un pubblico che va oltre gli appassionati di lettura\, includendo gli amanti della musica. \n​L’Evento al Centro: Poesie in Musica\n​Questa serata è una celebrazione dell’arte in tutte le sue forme\, unendo la forza evocativa della poesia con il potere emozionale della musica.  Ogni lettore del circolo è invitato a proporre una poesia che verrà letta e sapientemente accompagnata da un musicista\, creando un’atmosfera magica e irripetibile.  Questo approccio partecipativo trasforma i membri del pubblico in co-creatori dell’esperienza\, rafforzando il senso di comunità e offrendo una piattaforma unica per l’espressione creativa. \n​È un’occasione per vivere la poesia in una dimensione nuova\, amplificata dall’interpretazione musicale\, che ne rivelerà sfumature e profondità inattese. Un momento di pura bellezza e condivisione\, dove le voci dei lettori e le melodie si fonderanno per creare un’esperienza collettiva indimenticabile. Che siate poeti\, amanti della musica\, o semplicemente curiosi\, questa serata promette di toccare le corde più intime dell’anima. \n​Dettagli Pratici e Partecipazione\n​Vi invitiamo a scegliere la vostra poesia preferita o a comporne una\, e a unirvi a noi per questa serata unica che celebra la bellezza della parola e della musica. Non è richiesta alcuna esperienza pregressa\, solo la passione per l’arte!
URL:https://www.cineteatrobiassono.org/event/clb-poesie-in-musica/
LOCATION:Cineteatro Santa Maria\, Via Segramora 15\, Biassono\, MB\, 20853\, Italy
CATEGORIES:Circolo dei Lettori Biassonesi
ORGANIZER;CN="Cineteatro Santa Maria":MAILTO:biglietteria@cineteatrobiassono.org
END:VEVENT
END:VCALENDAR