BEGIN:VCALENDAR
VERSION:2.0
PRODID:-//CineTeatro Santa Maria - Biassono - ECPv6.15.20//NONSGML v1.0//EN
CALSCALE:GREGORIAN
METHOD:PUBLISH
X-WR-CALNAME:CineTeatro Santa Maria - Biassono
X-ORIGINAL-URL:https://www.cineteatrobiassono.org
X-WR-CALDESC:Eventi per CineTeatro Santa Maria - Biassono
REFRESH-INTERVAL;VALUE=DURATION:PT1H
X-Robots-Tag:noindex
X-PUBLISHED-TTL:PT1H
BEGIN:VTIMEZONE
TZID:Europe/Rome
BEGIN:DAYLIGHT
TZOFFSETFROM:+0100
TZOFFSETTO:+0200
TZNAME:CEST
DTSTART:20240331T010000
END:DAYLIGHT
BEGIN:STANDARD
TZOFFSETFROM:+0200
TZOFFSETTO:+0100
TZNAME:CET
DTSTART:20241027T010000
END:STANDARD
BEGIN:DAYLIGHT
TZOFFSETFROM:+0100
TZOFFSETTO:+0200
TZNAME:CEST
DTSTART:20250330T010000
END:DAYLIGHT
BEGIN:STANDARD
TZOFFSETFROM:+0200
TZOFFSETTO:+0100
TZNAME:CET
DTSTART:20251026T010000
END:STANDARD
BEGIN:DAYLIGHT
TZOFFSETFROM:+0100
TZOFFSETTO:+0200
TZNAME:CEST
DTSTART:20260329T010000
END:DAYLIGHT
BEGIN:STANDARD
TZOFFSETFROM:+0200
TZOFFSETTO:+0100
TZNAME:CET
DTSTART:20261025T010000
END:STANDARD
BEGIN:DAYLIGHT
TZOFFSETFROM:+0100
TZOFFSETTO:+0200
TZNAME:CEST
DTSTART:20270328T010000
END:DAYLIGHT
BEGIN:STANDARD
TZOFFSETFROM:+0200
TZOFFSETTO:+0100
TZNAME:CET
DTSTART:20271031T010000
END:STANDARD
END:VTIMEZONE
BEGIN:VEVENT
DTSTART;TZID=Europe/Rome:20260410T210000
DTEND;TZID=Europe/Rome:20260410T223000
DTSTAMP:20260423T144053
CREATED:20250830T075148Z
LAST-MODIFIED:20250830T132834Z
UID:6884-1775854800-1775860200@www.cineteatrobiassono.org
SUMMARY:CLB - Italo Calvino – Il sentiero dei nidi di ragno
DESCRIPTION:Un’occasione imperdibile per riscoprire un caposaldo della letteratura italiana e riflettere sulla Resistenza attraverso uno sguardo unico. Il 10 aprile 2026\, il Circolo dei Lettori Biassonesi vi invita a un incontro dedicato a Il sentiero dei nidi di ragno di Italo Calvino\, un classico che continua a parlarci.  L’incontro si terrà presso il CineTeatro Santa Maria di Biassono. \n​Il Libro al Centro: Il sentiero dei nidi di ragno\n \n​Questo classico della Resistenza italiana ci ricorda che “ogni nostro gesto lascia una traccia nella Piccola e nella Grande storia”.  È il primo romanzo di Calvino\, scritto a soli 23 anni \, che affronta il tema della guerra partigiana non “di petto ma di scorcio”\, attraverso gli occhi ingenui e al tempo stesso scaltri del bambino Pin.  La storia si svolge ai margini della guerra\, in un ambiente di monelli e vagabondi\, ma riesce a rendere il “colore\, l’aspro sapore\, il ritmo” di quell’epoca\, esplorando la crescita\, la perdita delle illusioni e la complessità della natura umana.  La scelta di raccontare la Resistenza da questa prospettiva infantile è fondamentale; essa permette di esplorare le tematiche della guerra in modo meno didascalico e più universalmente umano\, rendendo il romanzo accessibile e significativo anche per chi non ha una conoscenza approfondita del periodo storico. \n​Definito “delicato\, sensibile\, ingenuo\, e per questo ancora più crudele di qualsiasi possibile descrizione” \, il romanzo è avvincente e “lascia il senso vero della guerra”.  È un libro che\, pur suscitando diverse reazioni (alcuni lo hanno trovato “noioso” inizialmente )\, offre “molti spunti per riflettere anche su questioni importanti” \, come la fretta di crescere e la percezione della storia da parte dei più giovani. Un’opera fondamentale per comprendere la letteratura post-bellica italiana e il genio precoce di Calvino\, mostrando le radici del suo stile prima della sua evoluzione verso opere più fantastiche e filosofiche. \n​L’Autore: Italo Calvino\n​Italo Calvino (1923-1985) è una delle figure più importanti e innovative della letteratura italiana del Novecento.  Partecipò attivamente alla Resistenza\, un’esperienza che ha profondamente influenzato le sue prime opere\, incluso Il sentiero dei nidi di ragno.  Oltre alla sua attività di scrittore\, è stato un influente consulente editoriale\, collaboratore di giornali e riviste\, e ha diretto “Il menabò di letteratura”. \n​La sua vasta produzione spazia da romanzi allegorici e fantastici (come la trilogia I nostri antenati – Il visconte dimezzato\, Il barone rampante\, Il cavaliere inesistente) a opere più filosofiche e sperimentali (Le città invisibili\, Se una notte d’inverno un viaggiatore\, Palomar).  Ha anche curato le celebri Fiabe italiane e ha lasciato un’eredità di saggi e interviste\, tra cui le postume Lezioni americane. \n​Approfondimenti sull’autore: \n\n​Wikipedia (italiano): https://it.wikipedia.org/wiki/Italo_Calvino\n​Biografia (Treccani): https://www.treccani.it/enciclopedia/italo-calvino_(Enciclopedia-dei-ragazzi)/\n\n​Dettagli Pratici e Partecipazione\n​Vi invitiamo a rileggere o scoprire questo capolavoro per un dibattito che promette di essere ricco di spunti e riflessioni sulla storia e sulla lettura.
URL:https://www.cineteatrobiassono.org/event/clb-italo-calvino-il-sentiero-dei-nidi-di-ragno/
LOCATION:Cineteatro Santa Maria\, Via Segramora 15\, Biassono\, MB\, 20853\, Italy
CATEGORIES:Circolo dei Lettori Biassonesi,CLB 2025-2026
ATTACH;FMTTYPE=image/jpeg:https://www.cineteatrobiassono.org/wp-content/uploads/2025/08/Italo-Calvino-–-Il-sentiero-dei-nidi-di-ragno.jpg
ORGANIZER;CN="Cineteatro Santa Maria":MAILTO:biglietteria@cineteatrobiassono.org
END:VEVENT
BEGIN:VEVENT
DTSTART;TZID=Europe/Rome:20260313T210000
DTEND;TZID=Europe/Rome:20260313T223000
DTSTAMP:20260423T144053
CREATED:20250826T051433Z
LAST-MODIFIED:20260301T073429Z
UID:6880-1773435600-1773441000@www.cineteatrobiassono.org
SUMMARY:CLB - Silvia Avallone – Cuore nero
DESCRIPTION:Un appuntamento con una delle voci più intense della narrativa italiana contemporanea\, che ci condurrà nelle pieghe più oscure dell’animo umano. Il 13 marzo 2026\, il Circolo dei Lettori Biassonesi vi invita a un dialogo sul romanzo\, Cuore nero.  L’incontro si terrà presso il CineTeatro Santa Maria di Biassono. \n​Il Libro al Centro: Cuore nero\n \n​La penna di Silvia Avallone ci trasporta in un viaggio intenso e struggente\, dalle strade tortuose di un borgo di montagna a quelle ancor più impervie della coscienza umana.  Il romanzo narra la storia di Emilia e Bruno\, due “anime perse\, anime dannate”\, le cui vite feroci si specchiano l’una nell’altra\, accomunate dal “mal di vita” e dal desiderio di vivere nell’ombra\, condannati dal male subito e inflitto.  L’ambientazione in un “borgo di montagna” non è casuale; essa amplifica il senso di isolamento e la difficoltà dei personaggi di sfuggire ai propri drammi\, rendendo il contesto geografico un vero e proprio specchio delle loro battaglie interiori. \n​È un’immersione profonda nei problemi dell’adolescenza\, i drammi familiari\, il carcere minorile\, la ricostruzione di vite e affetti\, e le sfide di una società che abbandona le sue comunità.  Definito “intenso\, struggente\, con numerosi canali di riflessione”  e un “capolavoro”  da molti\, Cuore nero è apprezzato per la sua capacità di “entrare nella psicologia dei personaggi con dialoghi molto centrati” e per la scrittura “scorrevole e dettagliata”.  Nonostante alcuni lo abbiano trovato “lento” all’inizio o con “aspettative disattese” \, la maggior parte dei lettori concorda che “ogni pagina è funzionale” e che il libro “vola” una volta superata la fase iniziale.  L’Avallone “dipinge l’inferno ma indica la porta per uscirne” \, offrendo un messaggio di speranza e rinascita anche nelle situazioni più estreme\, affrontando il pregiudizio e la violenza senza sconti. \n​L’Autrice: Silvia Avallone\n​Nata a Biella nel 1984 e residente a Bologna\, Silvia Avallone è una scrittrice e poetessa con una laurea in Filosofia.  Ha iniziato la sua carriera pubblicando racconti e poesie su importanti riviste letterarie\, vincendo il premio A. Gatto nel 2008 per la sua raccolta Il libro dei vent’anni.  La sua produzione letteraria mostra una costante attenzione alle tematiche sociali\, alla gioventù e alle difficili realtà contemporanee\, consolidando la sua reputazione come voce autoriale impegnata e profonda. \n​I suoi romanzi sono stati un successo editoriale straordinario\, vendendo oltre 700.000 copie in Italia e tradotti in tutto il mondo.  Tra le sue opere più celebri si annoverano Acciaio (2010)\, da cui è stato tratto l’omonimo film\, Marina Bellezza (2013)\, Da dove la vita è perfetta (2017) e Un’amicizia (2020)\, quest’ultimo in corso di trasposizione televisiva.  Cuore nero (2024) conferma il suo talento nel narrare storie complesse e profondamente umane. \n​Approfondimenti sull’autrice:\n\n​Wikipedia (italiano)🙁https://it.wikipedia.org/wiki/Silvia_Avallone)\n​Biografia (Rizzoli Libri): https://www.rizzolilibri.it/autori/silvia-avallone/\n\n​Dettagli Pratici e Partecipazione\n​Vi invitiamo a leggere Cuore nero per un incontro che promette di essere tanto toccante quanto illuminante.
URL:https://www.cineteatrobiassono.org/event/clb-silvia-avallone-cuore-nero/
LOCATION:Cineteatro Santa Maria\, Via Segramora 15\, Biassono\, MB\, 20853\, Italy
CATEGORIES:Circolo dei Lettori Biassonesi,CLB 2025-2026
ATTACH;FMTTYPE=image/jpeg:https://www.cineteatrobiassono.org/wp-content/uploads/2025/08/IMG-20260228-WA0003.jpg
ORGANIZER;CN="Cineteatro Santa Maria":MAILTO:biglietteria@cineteatrobiassono.org
END:VEVENT
BEGIN:VEVENT
DTSTART;TZID=Europe/Rome:20260213T210000
DTEND;TZID=Europe/Rome:20260213T223000
DTSTAMP:20260423T144053
CREATED:20250830T075148Z
LAST-MODIFIED:20250830T132622Z
UID:6876-1771016400-1771021800@www.cineteatrobiassono.org
SUMMARY:CLB - Donato Carrisi – Io sono l'abisso
DESCRIPTION:Per gli amanti del thriller psicologico e delle profondità della mente umana\, un appuntamento da non perdere. Il 13 febbraio 2026\, il Circolo dei Lettori Biassonesi vi invita a addentrarvi nell’oscurità con Donato Carrisi e il suo avvincente romanzo\, Io sono l’abisso.  L’incontro si terrà presso il CineTeatro Santa Maria di Biassono. \n​Il Libro al Centro: Io sono l’abisso\n \n​Carrisi ci guida in un’esplorazione inquietante della mente umana\, cercando di capire “cosa accade nella testa e nel cuore di un assassino” e “che radice ha il male”.  Il romanzo affronta temi attuali e drammatici come la violenza di genere\, intrecciando storie umane profonde e portandoci nelle altezze e negli abissi della psiche.  Ambientato anche sul lago di Como\, il libro è un viaggio nel lato oscuro dell’animo umano\, dove nulla è mai scontato e niente è come sembra. \n​Acclamato da molti come “il più coinvolgente” dei suoi romanzi \, Io sono l’abisso è una “garanzia di suspance”  che tiene il lettore incollato alle pagine con capitoli corti e un ritmo incalzante.  È interessante notare il netto contrasto nella ricezione dell’adattamento cinematografico del romanzo\, anch’esso diretto da Carrisi. Il film ha raccolto recensioni significativamente miste o apertamente negative\, con critiche che citano confusione\, ritmo lento\, sviluppi improbabili della trama e una regia complessivamente scadente. \n​La premessa centrale di “Io sono l’abisso”\, esplicitamente evidenziata nella sinossi del calendario  e costantemente rafforzata dalle recensioni positive del libro \, è un’esplorazione profonda e senza compromessi della “mente di un assassino” e delle stesse “radici del male”. Questo posiziona il libro non solo come un thriller di suspense\, ma come un’opera con un significativo peso psicologico e filosofico. Stimola discussioni che vanno oltre i semplici colpi di scena della trama per addentrarsi in domande profonde sulla natura umana\, la moralità\, la capacità di oscurità e i fattori sociali che contribuiscono ad atti mostruosi. \n​La sorprendente disparità tra la ricezione generalmente positiva del libro  e le recensioni ampiamente negative del suo adattamento cinematografico  offre un’opportunità unica ed eccezionalmente preziosa per la discussione all’interno del circolo del libro. I membri possono impegnarsi in un’esplorazione meta-letteraria delle sfide intrinseche nell’adattare narrazioni psicologiche complesse allo schermo. Ciò consente un’analisi di quali elementi vengono inevitabilmente persi o guadagnati nella traduzione tra i mezzi letterari e cinematografici\, come le diverse forme di narrazione influenzano la ricezione del pubblico e le complessità di un autore che dirige la propria opera. Questo aggiunge uno strato avvincente e multidimensionale alla discussione\, attraendo sia lettori accaniti che cinefili. \n​L’Autore: Donato Carrisi\n​Nato a Martina Franca nel 1973\, Donato Carrisi è uno degli scrittori e sceneggiatori italiani più affermati nel genere thriller.  La sua capacità di creare trame complesse e personaggi indimenticabili lo ha reso un punto di riferimento per gli amanti del giallo e del mistero. La sua doppia veste di romanziere e regista cinematografico (ha firmato la sceneggiatura e la regia del film tratto da La ragazza nella nebbia ) suggerisce una narrazione intrinsecamente visiva e cinematografica\, che si riflette nella tensione e nell’intensità delle sue pagine. \n​Autore prolifico\, ha creato saghe di successo con personaggi ricorrenti come Mila Vasquez\, Marcus e Sandra\, e Pietro Gerber.  Tra i suoi numerosi bestseller figurano Il suggeritore\, Il tribunale delle anime\, La ragazza nella nebbia\, e la recente serie de “La casa”.  Io sono l’abisso (2020) è un’altra tappa fondamentale nel suo percorso di esplorazione del lato oscuro dell’animo umano. \n​Approfondimenti sull’autore:\n\n​Sito ufficiale: https://www.donatocarrisi.it/autore\n​Wikipedia (italiano)🙁https://it.wikipedia.org/wiki/Donato_Carrisi)\n​Biografia (Treccani): https://www.treccani.it/enciclopedia/donato-carrisi/\n\n​Dettagli Pratici e Partecipazione\n​Se amate i thriller che scavano a fondo nell’animo umano\, non mancate a questo incontro che promette di essere tanto stimolante quanto inquietante
URL:https://www.cineteatrobiassono.org/event/clb-donato-carrisi-io-sono-labisso/
LOCATION:Cineteatro Santa Maria\, Via Segramora 15\, Biassono\, MB\, 20853\, Italy
CATEGORIES:Circolo dei Lettori Biassonesi,CLB 2025-2026
ATTACH;FMTTYPE=image/jpeg:https://www.cineteatrobiassono.org/wp-content/uploads/2025/08/Donato-Carrisi-–-Io-sono-labisso.jpg
ORGANIZER;CN="Cineteatro Santa Maria":MAILTO:biglietteria@cineteatrobiassono.org
END:VEVENT
BEGIN:VEVENT
DTSTART;TZID=Europe/Rome:20251212T210000
DTEND;TZID=Europe/Rome:20251212T223000
DTSTAMP:20260423T144053
CREATED:20250830T075149Z
LAST-MODIFIED:20250830T133136Z
UID:6858-1765573200-1765578600@www.cineteatrobiassono.org
SUMMARY:CLB - Joanne Huist Smith – Il Tredicesimo Dono
DESCRIPTION:Preparatevi a lasciarvi scaldare il cuore da una storia vera di speranza e generosità. Il 12 dicembre 2025\, in vista delle festività\, il Circolo dei Lettori Biassonesi vi invita a un incontro speciale dedicato a Il Tredicesimo Dono di Joanne Huist Smith.  L’appuntamento è al CineTeatro Santa Maria di Biassono.  La scelta di questa data\, strategicamente vicina al Natale\, amplifica il messaggio del libro\, rendendolo particolarmente significativo per il periodo. \n​Il Libro al Centro: Il Tredicesimo Dono\n​ \nQuesto bestseller del New York Times è una storia vera e commovente che narra di una famiglia colpita da un’improvvisa e devastante perdita: la morte inaspettata del marito e padre\, Rick\, a ottobre.  Con l’avvicinarsi del Natale\, la vedova Joanne e i suoi tre figli si ritrovano immersi nel dolore e nella difficoltà di affrontare le festività. Ma dodici giorni prima di Natale\, una serie di doni misteriosi\, accompagnati da biglietti firmati “True Friends”\, inizia ad apparire sulla loro soglia.  Questi atti di gentilezza inaspettata innescano un processo di guarigione\, aiutando la famiglia a sciogliersi dal gelo del lutto e a riscoprire il calore della comunità e il vero significato del Natale e della famiglia.  Il fatto che si tratti di una “storia vera”  aggiunge un profondo strato di autenticità ed emozione\, rendendo la narrazione ancora più toccante e ispiratrice. \n​Descritto come un libro che “riempie il cuore e suscita mille emozioni differenti” \, è un racconto di “caduta e ripresa\, ammantato dall’atmosfera speciale del Natale”.  Con uno stile semplice ma efficace\, l’autrice condivide le sue sensazioni con trasporto e delicatezza\, offrendo un promemoria potente della bontà delle persone e del potere delle piccole azioni di cura e compassione.  È una lettura ideale per il periodo invernale\, capace di infondere speranza e confermare la fede nella capacità umana di superare le avversità. \n​L’Autrice: Joanne Huist Smith\n​Originaria di Dayton\, Ohio\, Joanne Huist Smith ha conseguito una laurea in inglese e ha lavorato come reporter per il Dayton Daily News.  Madre di tre figli e nonna di due\, la sua esperienza personale di fronte al lutto ha dato vita a questa toccante memoria. \n​Il Tredicesimo Dono: A True Story of a Christmas Miracle (2014) è la sua opera più nota\, acclamata come un inno alla gentilezza e alla forza dello spirito familiare.  Ha anche pubblicato versioni brevi del libro\, The 13th Gift: Part One e Part Two. \n​Approfondimenti sull’autrice:\n\n​Biografia (Penguin Random House): https://www.penguinrandomhouse.com/authors/225657/joanne-huist-smith/\n​Biografia (Goodreads)🙁https://www.goodreads.com/author/list/8393399.Joanne_Huist_Smith)\n​Facebook: https://www.facebook.com/joannehuistsmith\n\n​Vi invitiamo a unirvi a noi per una serata di ispirazione e condivisione\, perfetto per riscoprire il vero spirito delle festività.
URL:https://www.cineteatrobiassono.org/event/clb-joanne-huist-smith-il-tredicesimo-dono/
LOCATION:Cineteatro Santa Maria\, Via Segramora 15\, Biassono\, MB\, 20853\, Italy
CATEGORIES:Circolo dei Lettori Biassonesi,CLB 2025-2026
ATTACH;FMTTYPE=image/jpeg:https://www.cineteatrobiassono.org/wp-content/uploads/2025/08/Joanne-Huist-Smith-–-Il-Tredicesimo-Dono.jpg
ORGANIZER;CN="Cineteatro Santa Maria":MAILTO:biglietteria@cineteatrobiassono.org
END:VEVENT
BEGIN:VEVENT
DTSTART;TZID=Europe/Rome:20251114T210000
DTEND;TZID=Europe/Rome:20251114T223000
DTSTAMP:20260423T144053
CREATED:20250826T051818Z
LAST-MODIFIED:20250830T132504Z
UID:6853-1763154000-1763159400@www.cineteatrobiassono.org
SUMMARY:CLB - Mélissa Da Costa – I quaderni botanici di Madame Lucie
DESCRIPTION:Preparatevi a un viaggio emozionante nel cuore della natura e dell’anima umana. Il 14 novembre 2025\, il Circolo dei Lettori Biassonesi vi invita a scoprire la delicatezza e la profondità de I quaderni botanici di Madame Lucie di Mélissa Da Costa. L’incontro si terrà presso il CineTeatro Santa Maria di Biassono. \n​Il Libro al Centro: I quaderni botanici di Madame Lucie\nu \n​Questo romanzo di una delicatezza unica ci conduce negli abissi del cuore di una protagonista che\, attraversando il buio della sofferenza e della perdita\, risale verso la luce. Attraverso la forza curativa della natura e la riscoperta della bellezza\, la sua terra desolata interiore si trasforma in un giardino fiorito\, portando pace e speranza.  \n​Descritto come “toccante e delicato” \, il libro affronta il tema del lutto e della rinascita con grazia e forza silenziosa\, insegnando come la bellezza possa nascere anche dal dolore. È una storia che\, pur potendo essere percepita come “lenta” o “noiosa” da alcuni nella fase iniziale\, “si riscatta” e “migliora” \, per poi “fare a pezzi il cuore e l’anima per riconsegnarceli più pieni e vivi!” \, rendendolo un regalo prezioso per chi cerca una lettura commovente e piena di speranza. L’enfasi sulla natura come fonte di guarigione e rinascita è un messaggio potente e universale\, che rende il romanzo particolarmente attraente per chi è interessato al benessere personale e alla crescita interiore\, oltre che agli appassionati di letteratura. È perfetto per chi ama le storie in cui la natura è protagonista e la scrittura “tipicamente francese”.  \n​L’Autrice: Mélissa Da Costa\n​Nata in Francia nel 1990\, Mélissa Da Costa ha studiato economia e management\, e si occupa di comunicazione in ambito energetico e climatico. La sua carriera letteraria è stata un successo immediato in Francia\, con I quaderni botanici di Madame Lucie come primo romanzo tradotto in Italia.  \n​Il suo esordio\, Tout le bleu du ciel\, è stato tra i dieci libri più venduti in Francia nel 2020 e pubblicato in Italia nel 2022 da Rizzoli. Tra le sue altre opere figurano All’incrocio dei nostri destini\, La fabbricante di stelle\, e Bucaneve\, confermando il suo talento nel narrare storie profonde e coinvolgenti.  \nApprofondimenti sull’autrice:\n\n​Biografia (Rizzoli Libri): https://www.rizzolilibri.it/autori/melissa-da-costa/\n\n​Cosa Aspettarsi dall’Incontro\n​Un’occasione per esplorare il potere terapeutico della natura e la resilienza dello spirito umano\, temi centrali nel romanzo. Discuteremo come la scrittura di Da Costa riesca a trasformare il dolore in un percorso di crescita\, e come Madame Lucie diventi un simbolo di cura e accoglienza.
URL:https://www.cineteatrobiassono.org/event/clb-melissa-da-costa-i-quaderni-botanici-di-madame-lucie/
LOCATION:Cineteatro Santa Maria\, Via Segramora 15\, Biassono\, MB\, 20853\, Italy
CATEGORIES:Circolo dei Lettori Biassonesi,CLB 2025-2026
ATTACH;FMTTYPE=image/jpeg:https://www.cineteatrobiassono.org/wp-content/uploads/2025/08/Melissa-Da-Costa-–-I-quaderni-botanici-di-Madame-Lucie.jpg
ORGANIZER;CN="Cineteatro Santa Maria":MAILTO:biglietteria@cineteatrobiassono.org
END:VEVENT
BEGIN:VEVENT
DTSTART;TZID=Europe/Rome:20251017T210000
DTEND;TZID=Europe/Rome:20251017T223000
DTSTAMP:20260423T144053
CREATED:20250830T075149Z
LAST-MODIFIED:20250914T092336Z
UID:6849-1760734800-1760740200@www.cineteatrobiassono.org
SUMMARY:CLB - Beatrice Salvioni – La Malacarne
DESCRIPTION:Un appuntamento imperdibile per gli amanti della narrativa storica e delle storie di formazione al femminile. Venerdì 17 ottobre 2025\, il Circolo dei Lettori Biassonesi è lieto di ospitare Beatrice Salvioni per un dialogo sul suo ultimo romanzo\, La Malacarne. L’incontro si terrà\, come di consueto\, presso il CineTeatro Santa Maria di Biassono. È consigliata la prenotazione qui.  \n​Il Libro al Centro: La Malacarne\n \nImmergetevi nell’Italia del ventennio fascista\, dove due amiche\, Maddalena e Francesca\, affrontano la complessità della crescita e la fatica di disincagliarsi dai ruoli imposti dalla società. Questo romanzo\, seguito de La Malnata\, riprende le fila delle loro vite tormentate e ribelli\, esplorando cosa sia accaduto dopo e come la Storia le abbia messe alla prova\, specialmente con l’ingresso dell’Italia in guerra. \n​Beatrice Salvioni\, con la sua innegabile energia narrativa\, ci trasporta in un racconto di lenta metamorfosi e liberazione personale che si intreccia con quella collettiva. Sebbene alcune recensioni sottolineino che la lettura di questo libro sia più completa se preceduta da La Malnata \, il libro è ampiamente apprezzato per la sua capacità di farci guardare il mondo attraverso gli occhi di queste due giovani donne\, costrette a scegliere da che parte stare in un’epoca di grandi sconvolgimenti. È un’opera che\, pur ambientata nel passato\, solleva interrogativi universali sulla resilienza\, l’amicizia e la ricerca della propria identità in tempi difficili. La discussione durante l’incontro potrà approfondire la relazione tra i due romanzi\, offrendo una prospettiva chiara su come si inseriscono l’uno nell’altro\, e arricchendo l’esperienza di chi ha letto o intende leggere entrambe le opere. \n​L’Autrice: Beatrice Salvioni\n​Nata a Monza nel 1995\, Beatrice Salvioni è una giovane e promettente voce della letteratura italiana. Diplomata alla prestigiosa Scuola Holden nel 2021\, ha già dimostrato il suo talento vincendo il Premio Calvino racconti nello stesso anno con “Il volo notturno delle lingue mozzate”. Un dettaglio curioso del suo percorso personale è la pratica della scherma medievale e l’aver scalato il Monte Rosa \, un retroscena che potrebbe suggerire la forza e la determinazione che spesso si ritrovano nei suoi personaggi femminili\, rendendo la sua figura ancora più affascinante per il pubblico. \n​Il suo romanzo d’esordio\, La Malnata (Einaudi 2023)\, ha riscosso un successo internazionale\, tradotto in oltre trenta lingue e in procinto di diventare una serie TV. La Malacarne (Einaudi 2024) è la sua seconda opera\, che approfondisce le vicende iniziate con il precedente romanzo. \n​Approfondimenti sull’autrice:\n\n​Biografia (Premio Comisso): https://www.premiocomisso.it/la-malnata-di-bearice-salvioni/\n​Biografia (Istituto Italiano di Cultura di Marsiglia): https://iicmarsiglia.esteri.it/it/gli_eventi/calendario/liic-consiglia-cafe-litteraire-con-beatrice-salvioni/\n​Biografia (Einaudi): https://www.einaudi.it/autori/beatrice-salvioni/\n​Biografia (IBS): https://www.ibs.it/libri/autori/beatrice-salvioni\n​Biografia (Incipitmania): https://www.incipitmania.com/aut-s/salvioni-beatrice/beatrice-salvioni-libri-opere-biografia/\n\n​Vi invitiamo a leggere La Malacarne (e\, se possibile\, La Malnata) in anticipo per partecipare attivamente alla discussione e porre le vostre domande all’autrice.
URL:https://www.cineteatrobiassono.org/event/clb-beatrice-salvioni-la-malacarne/
LOCATION:Cineteatro Santa Maria\, Via Segramora 15\, Biassono\, MB\, 20853\, Italy
CATEGORIES:Circolo dei Lettori Biassonesi,CLB 2025-2026
ATTACH;FMTTYPE=image/jpeg:https://www.cineteatrobiassono.org/wp-content/uploads/2025/08/content.jpeg
ORGANIZER;CN="Cineteatro Santa Maria":MAILTO:biglietteria@cineteatrobiassono.org
END:VEVENT
END:VCALENDAR