BEGIN:VCALENDAR
VERSION:2.0
PRODID:-//CineTeatro Santa Maria - Biassono - ECPv6.15.20//NONSGML v1.0//EN
CALSCALE:GREGORIAN
METHOD:PUBLISH
X-WR-CALNAME:CineTeatro Santa Maria - Biassono
X-ORIGINAL-URL:https://www.cineteatrobiassono.org
X-WR-CALDESC:Eventi per CineTeatro Santa Maria - Biassono
REFRESH-INTERVAL;VALUE=DURATION:PT1H
X-Robots-Tag:noindex
X-PUBLISHED-TTL:PT1H
BEGIN:VTIMEZONE
TZID:Europe/Rome
BEGIN:DAYLIGHT
TZOFFSETFROM:+0100
TZOFFSETTO:+0200
TZNAME:CEST
DTSTART:20250330T010000
END:DAYLIGHT
BEGIN:STANDARD
TZOFFSETFROM:+0200
TZOFFSETTO:+0100
TZNAME:CET
DTSTART:20251026T010000
END:STANDARD
BEGIN:DAYLIGHT
TZOFFSETFROM:+0100
TZOFFSETTO:+0200
TZNAME:CEST
DTSTART:20260329T010000
END:DAYLIGHT
BEGIN:STANDARD
TZOFFSETFROM:+0200
TZOFFSETTO:+0100
TZNAME:CET
DTSTART:20261025T010000
END:STANDARD
BEGIN:DAYLIGHT
TZOFFSETFROM:+0100
TZOFFSETTO:+0200
TZNAME:CEST
DTSTART:20270328T010000
END:DAYLIGHT
BEGIN:STANDARD
TZOFFSETFROM:+0200
TZOFFSETTO:+0100
TZNAME:CET
DTSTART:20271031T010000
END:STANDARD
END:VTIMEZONE
BEGIN:VEVENT
DTSTART;TZID=Europe/Rome:20260313T210000
DTEND;TZID=Europe/Rome:20260313T223000
DTSTAMP:20260421T172824
CREATED:20250826T051433Z
LAST-MODIFIED:20260301T073429Z
UID:6880-1773435600-1773441000@www.cineteatrobiassono.org
SUMMARY:CLB - Silvia Avallone – Cuore nero
DESCRIPTION:Un appuntamento con una delle voci più intense della narrativa italiana contemporanea\, che ci condurrà nelle pieghe più oscure dell’animo umano. Il 13 marzo 2026\, il Circolo dei Lettori Biassonesi vi invita a un dialogo sul romanzo\, Cuore nero.  L’incontro si terrà presso il CineTeatro Santa Maria di Biassono. \n​Il Libro al Centro: Cuore nero\n \n​La penna di Silvia Avallone ci trasporta in un viaggio intenso e struggente\, dalle strade tortuose di un borgo di montagna a quelle ancor più impervie della coscienza umana.  Il romanzo narra la storia di Emilia e Bruno\, due “anime perse\, anime dannate”\, le cui vite feroci si specchiano l’una nell’altra\, accomunate dal “mal di vita” e dal desiderio di vivere nell’ombra\, condannati dal male subito e inflitto.  L’ambientazione in un “borgo di montagna” non è casuale; essa amplifica il senso di isolamento e la difficoltà dei personaggi di sfuggire ai propri drammi\, rendendo il contesto geografico un vero e proprio specchio delle loro battaglie interiori. \n​È un’immersione profonda nei problemi dell’adolescenza\, i drammi familiari\, il carcere minorile\, la ricostruzione di vite e affetti\, e le sfide di una società che abbandona le sue comunità.  Definito “intenso\, struggente\, con numerosi canali di riflessione”  e un “capolavoro”  da molti\, Cuore nero è apprezzato per la sua capacità di “entrare nella psicologia dei personaggi con dialoghi molto centrati” e per la scrittura “scorrevole e dettagliata”.  Nonostante alcuni lo abbiano trovato “lento” all’inizio o con “aspettative disattese” \, la maggior parte dei lettori concorda che “ogni pagina è funzionale” e che il libro “vola” una volta superata la fase iniziale.  L’Avallone “dipinge l’inferno ma indica la porta per uscirne” \, offrendo un messaggio di speranza e rinascita anche nelle situazioni più estreme\, affrontando il pregiudizio e la violenza senza sconti. \n​L’Autrice: Silvia Avallone\n​Nata a Biella nel 1984 e residente a Bologna\, Silvia Avallone è una scrittrice e poetessa con una laurea in Filosofia.  Ha iniziato la sua carriera pubblicando racconti e poesie su importanti riviste letterarie\, vincendo il premio A. Gatto nel 2008 per la sua raccolta Il libro dei vent’anni.  La sua produzione letteraria mostra una costante attenzione alle tematiche sociali\, alla gioventù e alle difficili realtà contemporanee\, consolidando la sua reputazione come voce autoriale impegnata e profonda. \n​I suoi romanzi sono stati un successo editoriale straordinario\, vendendo oltre 700.000 copie in Italia e tradotti in tutto il mondo.  Tra le sue opere più celebri si annoverano Acciaio (2010)\, da cui è stato tratto l’omonimo film\, Marina Bellezza (2013)\, Da dove la vita è perfetta (2017) e Un’amicizia (2020)\, quest’ultimo in corso di trasposizione televisiva.  Cuore nero (2024) conferma il suo talento nel narrare storie complesse e profondamente umane. \n​Approfondimenti sull’autrice:\n\n​Wikipedia (italiano)🙁https://it.wikipedia.org/wiki/Silvia_Avallone)\n​Biografia (Rizzoli Libri): https://www.rizzolilibri.it/autori/silvia-avallone/\n\n​Dettagli Pratici e Partecipazione\n​Vi invitiamo a leggere Cuore nero per un incontro che promette di essere tanto toccante quanto illuminante.
URL:https://www.cineteatrobiassono.org/event/clb-silvia-avallone-cuore-nero/
LOCATION:Cineteatro Santa Maria\, Via Segramora 15\, Biassono\, MB\, 20853\, Italy
CATEGORIES:Circolo dei Lettori Biassonesi,CLB 2025-2026
ATTACH;FMTTYPE=image/jpeg:https://www.cineteatrobiassono.org/wp-content/uploads/2025/08/IMG-20260228-WA0003.jpg
ORGANIZER;CN="Cineteatro Santa Maria":MAILTO:biglietteria@cineteatrobiassono.org
END:VEVENT
END:VCALENDAR